BEGIN:VCALENDAR
VERSION:2.0
CALSCALE:GREGORIAN
PRODID:UnionActive
BEGIN:VEVENT
UID:10045584@ibew233.org
SUMMARY:MT Labor History, Butte 8 hrs industry
DESCRIPTION:Contact:  \nLink for more information: http://ibew233.org/index.cfm?zone=/unionactive/view_calendar.cfm&calendarID=10045584&thisdate=04/14/2018&useCalSection=main
LOCATION:
URL:http://ibew233.org/index.cfm?zone=/unionactive/view_calendar.cfm&calendarID=10045584&thisdate=04/14/2018&useCalSection=main
DTSTART:20180414T140000Z
DTEND:20180414T220000Z
DTSTAMP:20260419T212205
TRIGGER:-PT60M
END:VEVENT
END:VCALENDAR
