BEGIN:VCALENDAR
VERSION:2.0
CALSCALE:GREGORIAN
PRODID:UnionActive
BEGIN:VEVENT
UID:10045586@ibew233.org
SUMMARY:NEC update #1, Great Falls 8 hrs code
DESCRIPTION:Contact:  \nLink for more information: http://ibew233.org/index.cfm?zone=/unionactive/view_calendar.cfm&calendarID=10045586&thisdate=05/12/2018&useCalSection=main
LOCATION:
URL:http://ibew233.org/index.cfm?zone=/unionactive/view_calendar.cfm&calendarID=10045586&thisdate=05/12/2018&useCalSection=main
DTSTART:20180512T140000Z
DTEND:20180512T220000Z
DTSTAMP:20260419T212330
TRIGGER:-PT60M
END:VEVENT
END:VCALENDAR
