BEGIN:VCALENDAR
VERSION:2.0
CALSCALE:GREGORIAN
PRODID:UnionActive
BEGIN:VEVENT
UID:10743167@ibew233.org
SUMMARY:Office Closed Memorial Day
DESCRIPTION:Contact:  \nLink for more information: http://ibew233.org/index.cfm?zone=/unionactive/view_calendar.cfm&calendarID=10743167&thisdate=05/27/2019&useCalSection=main
LOCATION:
URL:http://ibew233.org/index.cfm?zone=/unionactive/view_calendar.cfm&calendarID=10743167&thisdate=05/27/2019&useCalSection=main
DTSTART:20190527T140000Z
DTEND:20190527T150000Z
DTSTAMP:20260419T143322
TRIGGER:-PT60M
END:VEVENT
END:VCALENDAR
