BEGIN:VCALENDAR
VERSION:2.0
CALSCALE:GREGORIAN
PRODID:UnionActive
BEGIN:VEVENT
UID:10743168@ibew233.org
SUMMARY:Office Closed Independence Day
DESCRIPTION:Contact:  \nLink for more information: http://ibew233.org/index.cfm?zone=/unionactive/view_calendar.cfm&calendarID=10743168&thisdate=07/04/2019&useCalSection=main
LOCATION:
URL:http://ibew233.org/index.cfm?zone=/unionactive/view_calendar.cfm&calendarID=10743168&thisdate=07/04/2019&useCalSection=main
DTSTART:20190704T140000Z
DTEND:20190705T150000Z
DTSTAMP:20260419T175944
TRIGGER:-PT60M
END:VEVENT
END:VCALENDAR
