BEGIN:VCALENDAR
VERSION:2.0
CALSCALE:GREGORIAN
PRODID:UnionActive
BEGIN:VEVENT
UID:10743169@ibew233.org
SUMMARY:Office Closed Labor Day
DESCRIPTION:Contact:  \nLink for more information: http://ibew233.org/index.cfm?zone=/unionactive/view_calendar.cfm&calendarID=10743169&thisdate=09/02/2019&useCalSection=main
LOCATION:
URL:http://ibew233.org/index.cfm?zone=/unionactive/view_calendar.cfm&calendarID=10743169&thisdate=09/02/2019&useCalSection=main
DTSTART:20190902T140000Z
DTEND:20190902T230000Z
DTSTAMP:20260419T162051
TRIGGER:-PT60M
END:VEVENT
END:VCALENDAR
