BEGIN:VCALENDAR
VERSION:2.0
CALSCALE:GREGORIAN
PRODID:UnionActive
BEGIN:VEVENT
UID:10743175@ibew233.org
SUMMARY:Office Closed
DESCRIPTION:Contact:  \nLink for more information: http://ibew233.org/index.cfm?zone=/unionactive/view_calendar.cfm&calendarID=10743175&thisdate=01/01/2020&useCalSection=main
LOCATION:
URL:http://ibew233.org/index.cfm?zone=/unionactive/view_calendar.cfm&calendarID=10743175&thisdate=01/01/2020&useCalSection=main
DTSTART:20200101T150000Z
DTEND:20200103T000000Z
DTSTAMP:20260420T005618
TRIGGER:-PT60M
END:VEVENT
END:VCALENDAR
