BEGIN:VCALENDAR
VERSION:2.0
CALSCALE:GREGORIAN
PRODID:UnionActive
BEGIN:VEVENT
UID:10928396@ibew233.org
SUMMARY:Office Closed Christmas
DESCRIPTION:Contact:  \nLink for more information: http://ibew233.org/index.cfm?zone=/unionactive/view_calendar.cfm&calendarID=10928396&thisdate=12/26/2019&useCalSection=main
LOCATION:
URL:http://ibew233.org/index.cfm?zone=/unionactive/view_calendar.cfm&calendarID=10928396&thisdate=12/26/2019&useCalSection=main
DTSTART:20191226T150000Z
DTEND:20191226T160000Z
DTSTAMP:20260419T175954
TRIGGER:-PT60M
END:VEVENT
END:VCALENDAR
