BEGIN:VCALENDAR
VERSION:2.0
CALSCALE:GREGORIAN
PRODID:UnionActive
BEGIN:VEVENT
UID:10928398@ibew233.org
SUMMARY:Office Closed New Years
DESCRIPTION:Contact:  \nLink for more information: http://ibew233.org/index.cfm?zone=/unionactive/view_calendar.cfm&calendarID=10928398&thisdate=01/02/2020&useCalSection=main
LOCATION:
URL:http://ibew233.org/index.cfm?zone=/unionactive/view_calendar.cfm&calendarID=10928398&thisdate=01/02/2020&useCalSection=main
DTSTART:20200102T150000Z
DTEND:20200102T160000Z
DTSTAMP:20260419T125851
TRIGGER:-PT60M
END:VEVENT
END:VCALENDAR
