BEGIN:VCALENDAR
VERSION:2.0
CALSCALE:GREGORIAN
PRODID:UnionActive
BEGIN:VEVENT
UID:12036932@ibew233.org
SUMMARY:A TO Z CODE HELENA 8hrs 
DESCRIPTION:Contact: USE THE LINK ON WEBSITE OR IN EVENT DETAILS  \nLink for more information: http://ibew233.org/index.cfm?zone=/unionactive/view_calendar.cfm&calendarID=12036932&thisdate=04/16/2022&useCalSection=main
LOCATION:MT ELECTRICAL TRAINING CENTER 2616 BOZEMAN AVE IN HELENA 
URL:http://ibew233.org/index.cfm?zone=/unionactive/view_calendar.cfm&calendarID=12036932&thisdate=04/16/2022&useCalSection=main
DTSTART:20220416T140000Z
DTEND:20220416T230000Z
DTSTAMP:20260419T193409
TRIGGER:-PT60M
END:VEVENT
END:VCALENDAR
