BEGIN:VCALENDAR
VERSION:2.0
CALSCALE:GREGORIAN
PRODID:UnionActive
BEGIN:VEVENT
UID:12345515@ibew233.org
SUMMARY:2020 CODE UPDATE CEU
DESCRIPTION:Contact: I will update when I get a link to register  \nLink for more information: http://ibew233.org/index.cfm?zone=/unionactive/view_calendar.cfm&calendarID=12345515&thisdate=01/28/2023&useCalSection=main
LOCATION:Montana Electrical Training Center
2616 Bozeman Avenue
Helena, MT 59601
URL:http://ibew233.org/index.cfm?zone=/unionactive/view_calendar.cfm&calendarID=12345515&thisdate=01/28/2023&useCalSection=main
DTSTART:20230128T150000Z
DTEND:20230129T000000Z
DTSTAMP:20260419T125803
TRIGGER:-PT60M
END:VEVENT
END:VCALENDAR
