BEGIN:VCALENDAR
VERSION:2.0
CALSCALE:GREGORIAN
PRODID:UnionActive
BEGIN:VEVENT
UID:12575882@ibew233.org
SUMMARY:Helena Christmas Party
DESCRIPTION:Contact:  \nLink for more information: http://ibew233.org/index.cfm?zone=/unionactive/view_calendar.cfm&calendarID=12575882&thisdate=12/01/2023&useCalSection=main
LOCATION:Helena Labor Temple
110 North Warren
Helena MT, 59601
URL:http://ibew233.org/index.cfm?zone=/unionactive/view_calendar.cfm&calendarID=12575882&thisdate=12/01/2023&useCalSection=main
DTSTART:20231202T010000Z
DTEND:20231202T050000Z
DTSTAMP:20260419T193144
TRIGGER:-PT60M
END:VEVENT
END:VCALENDAR
