BEGIN:VCALENDAR
VERSION:2.0
CALSCALE:GREGORIAN
PRODID:UnionActive
BEGIN:VEVENT
UID:12575884@ibew233.org
SUMMARY:Great Falls Christmas Party
DESCRIPTION:Contact:  \nLink for more information: http://ibew233.org/index.cfm?zone=/unionactive/view_calendar.cfm&calendarID=12575884&thisdate=12/16/2023&useCalSection=main
LOCATION:
URL:http://ibew233.org/index.cfm?zone=/unionactive/view_calendar.cfm&calendarID=12575884&thisdate=12/16/2023&useCalSection=main
DTSTART:20231216T200000Z
DTEND:20231217T000000Z
DTSTAMP:20260419T175905
TRIGGER:-PT60M
END:VEVENT
END:VCALENDAR
