BEGIN:VCALENDAR
VERSION:2.0
CALSCALE:GREGORIAN
PRODID:UnionActive
BEGIN:VEVENT
UID:12587003@ibew233.org
SUMMARY:CEU Digital Multimeters -Helena
DESCRIPTION:Contact: CEU Digital Multimeters -Helena \nLink for more information: http://ibew233.org/index.cfm?zone=/unionactive/view_calendar.cfm&calendarID=12587003&thisdate=01/20/2023&useCalSection=main
LOCATION:
URL:http://ibew233.org/index.cfm?zone=/unionactive/view_calendar.cfm&calendarID=12587003&thisdate=01/20/2023&useCalSection=main
DTSTART:20230120T150000Z
DTEND:20230120T160000Z
DTSTAMP:20260419T143053
TRIGGER:-PT60M
END:VEVENT
END:VCALENDAR
