BEGIN:VCALENDAR
VERSION:2.0
CALSCALE:GREGORIAN
PRODID:UnionActive
BEGIN:VEVENT
UID:12587004@ibew233.org
SUMMARY:CEU Digital Multimeters -Helena
DESCRIPTION:Contact:  \nLink for more information: http://ibew233.org/index.cfm?zone=/unionactive/view_calendar.cfm&calendarID=12587004&thisdate=01/20/2024&useCalSection=main
LOCATION:CEU Digital Multimeters -Helena
URL:http://ibew233.org/index.cfm?zone=/unionactive/view_calendar.cfm&calendarID=12587004&thisdate=01/20/2024&useCalSection=main
DTSTART:20240120T150000Z
DTEND:20240120T190000Z
DTSTAMP:20260419T212155
TRIGGER:-PT60M
END:VEVENT
END:VCALENDAR
