BEGIN:VCALENDAR
VERSION:2.0
CALSCALE:GREGORIAN
PRODID:UnionActive
BEGIN:VEVENT
UID:12587007@ibew233.org
SUMMARY:Labor History- Great Falls
DESCRIPTION:Contact:  \nLink for more information: http://ibew233.org/index.cfm?zone=/unionactive/view_calendar.cfm&calendarID=12587007&thisdate=03/23/2024&useCalSection=main
LOCATION:Great Falls
URL:http://ibew233.org/index.cfm?zone=/unionactive/view_calendar.cfm&calendarID=12587007&thisdate=03/23/2024&useCalSection=main
DTSTART:20240323T140000Z
DTEND:20240323T230000Z
DTSTAMP:20260419T192911
TRIGGER:-PT60M
END:VEVENT
END:VCALENDAR
