BEGIN:VCALENDAR
VERSION:2.0
CALSCALE:GREGORIAN
PRODID:UnionActive
BEGIN:VEVENT
UID:12587008@ibew233.org
SUMMARY:CEU Grounding-Helena
DESCRIPTION:Contact:  \nLink for more information: http://ibew233.org/index.cfm?zone=/unionactive/view_calendar.cfm&calendarID=12587008&thisdate=04/13/2024&useCalSection=main
LOCATION:Helena
URL:http://ibew233.org/index.cfm?zone=/unionactive/view_calendar.cfm&calendarID=12587008&thisdate=04/13/2024&useCalSection=main
DTSTART:20240413T140000Z
DTEND:20240413T230000Z
DTSTAMP:20260419T175720
TRIGGER:-PT60M
END:VEVENT
END:VCALENDAR
