BEGIN:VCALENDAR
VERSION:2.0
CALSCALE:GREGORIAN
PRODID:UnionActive
BEGIN:VEVENT
UID:12587011@ibew233.org
SUMMARY:CEU Labor History-Helena
DESCRIPTION:Contact:  \nLink for more information: http://ibew233.org/index.cfm?zone=/unionactive/view_calendar.cfm&calendarID=12587011&thisdate=04/27/2024&useCalSection=main
LOCATION:
URL:http://ibew233.org/index.cfm?zone=/unionactive/view_calendar.cfm&calendarID=12587011&thisdate=04/27/2024&useCalSection=main
DTSTART:20240427T140000Z
DTEND:20240427T230000Z
DTSTAMP:20260419T143216
TRIGGER:-PT60M
END:VEVENT
END:VCALENDAR
