BEGIN:VCALENDAR
VERSION:2.0
CALSCALE:GREGORIAN
PRODID:UnionActive
BEGIN:VEVENT
UID:9337034@ibew233.org
SUMMARY:Butte Christmas Party
DESCRIPTION:Contact:  \nLink for more information: http://ibew233.org/index.cfm?zone=/unionactive/view_calendar.cfm&calendarID=9337034&thisdate=12/09/2016&useCalSection=main
LOCATION:Quarry Brewing upstairs at 124 W 
Broadway St, Butte, MT
URL:http://ibew233.org/index.cfm?zone=/unionactive/view_calendar.cfm&calendarID=9337034&thisdate=12/09/2016&useCalSection=main
DTSTART:20161210T010000Z
DTEND:20161210T060000Z
DTSTAMP:20260420T004444
TRIGGER:-PT60M
END:VEVENT
END:VCALENDAR
