BEGIN:VCALENDAR
VERSION:2.0
CALSCALE:GREGORIAN
PRODID:UnionActive
BEGIN:VEVENT
UID:9818272@ibew233.org
SUMMARY:Navigating the NEC/Grounding (Great Falls) 8 hours code
DESCRIPTION:Contact: To sign up for this class go to www.mtelectricaljatc.org/ceu \nLink for more information: http://ibew233.org/index.cfm?zone=/unionactive/view_calendar.cfm&calendarID=9818272&thisdate=10/07/2017&useCalSection=main
LOCATION:Great Falls Labor Temple
URL:http://ibew233.org/index.cfm?zone=/unionactive/view_calendar.cfm&calendarID=9818272&thisdate=10/07/2017&useCalSection=main
DTSTART:20171007T140000Z
DTEND:20171007T220000Z
DTSTAMP:20260419T175800
TRIGGER:-PT60M
END:VEVENT
END:VCALENDAR
