BEGIN:VCALENDAR
VERSION:2.0
CALSCALE:GREGORIAN
PRODID:UnionActive
BEGIN:VEVENT
UID:9982681@ibew233.org
SUMMARY:Journeyman upgrade CPR and First Aid Class
DESCRIPTION:Contact:  \nLink for more information: http://ibew233.org/index.cfm?zone=/unionactive/view_calendar.cfm&calendarID=9982681&thisdate=12/15/2017&useCalSection=main
LOCATION:Montana Electrical JATC
URL:http://ibew233.org/index.cfm?zone=/unionactive/view_calendar.cfm&calendarID=9982681&thisdate=12/15/2017&useCalSection=main
DTSTART:20171215T190000Z
DTEND:20171216T030000Z
DTSTAMP:20260419T230755
TRIGGER:-PT60M
END:VEVENT
END:VCALENDAR
