BEGIN:VCALENDAR
VERSION:2.0
CALSCALE:GREGORIAN
PRODID:UnionActive
BEGIN:VEVENT
UID:10045574@ibew233.org
SUMMARY:MT Labor History, Great Falls 8 hrs industry
DESCRIPTION:Contact:  \nLink for more information: http://ibew233.org/index.cfm?zone=/unionactive/view_calendar.cfm&calendarID=10045574&thisdate=01/13/2018&useCalSection=main
LOCATION:
URL:http://ibew233.org/index.cfm?zone=/unionactive/view_calendar.cfm&calendarID=10045574&thisdate=01/13/2018&useCalSection=main
DTSTART:20180113T150000Z
DTEND:20180113T230000Z
DTSTAMP:20240229T135200
TRIGGER:-PT60M
END:VEVENT
END:VCALENDAR
