BEGIN:VCALENDAR
VERSION:2.0
CALSCALE:GREGORIAN
PRODID:UnionActive
BEGIN:VEVENT
UID:10045575@ibew233.org
SUMMARY:NEC update #1, Butte 8 hrs code
DESCRIPTION:Contact:  \nLink for more information: http://ibew233.org/index.cfm?zone=/unionactive/view_calendar.cfm&calendarID=10045575&thisdate=01/20/2018&useCalSection=main
LOCATION:
URL:http://ibew233.org/index.cfm?zone=/unionactive/view_calendar.cfm&calendarID=10045575&thisdate=01/20/2018&useCalSection=main
DTSTART:20180120T150000Z
DTEND:20180120T230000Z
DTSTAMP:20240229T135153
TRIGGER:-PT60M
END:VEVENT
END:VCALENDAR
