BEGIN:VCALENDAR
VERSION:2.0
CALSCALE:GREGORIAN
PRODID:UnionActive
BEGIN:VEVENT
UID:10045576@ibew233.org
SUMMARY:70E Electrical Safety, Helena 8 hrs code
DESCRIPTION:Contact:  \nLink for more information: http://ibew233.org/index.cfm?zone=/unionactive/view_calendar.cfm&calendarID=10045576&thisdate=01/27/2018&useCalSection=main
LOCATION:
URL:http://ibew233.org/index.cfm?zone=/unionactive/view_calendar.cfm&calendarID=10045576&thisdate=01/27/2018&useCalSection=main
DTSTART:20180127T150000Z
DTEND:20180127T230000Z
DTSTAMP:20240229T135200
TRIGGER:-PT60M
END:VEVENT
END:VCALENDAR
