BEGIN:VCALENDAR
VERSION:2.0
CALSCALE:GREGORIAN
PRODID:UnionActive
BEGIN:VEVENT
UID:10045582@ibew233.org
SUMMARY:NEC/Transformers, Butte 8 hrs code
DESCRIPTION:Contact:  \nLink for more information: http://ibew233.org/index.cfm?zone=/unionactive/view_calendar.cfm&calendarID=10045582&thisdate=03/24/2018&useCalSection=main
LOCATION:
URL:http://ibew233.org/index.cfm?zone=/unionactive/view_calendar.cfm&calendarID=10045582&thisdate=03/24/2018&useCalSection=main
DTSTART:20180324T140000Z
DTEND:20180324T220000Z
DTSTAMP:20240229T135159
TRIGGER:-PT60M
END:VEVENT
END:VCALENDAR
