BEGIN:VCALENDAR
VERSION:2.0
CALSCALE:GREGORIAN
PRODID:UnionActive
BEGIN:VEVENT
UID:10045585@ibew233.org
SUMMARY:Navigating the NEC/Solar, Great Falls 8 hrs code
DESCRIPTION:Contact:  \nLink for more information: http://ibew233.org/index.cfm?zone=/unionactive/view_calendar.cfm&calendarID=10045585&thisdate=04/28/2018&useCalSection=main
LOCATION:
URL:http://ibew233.org/index.cfm?zone=/unionactive/view_calendar.cfm&calendarID=10045585&thisdate=04/28/2018&useCalSection=main
DTSTART:20180428T140000Z
DTEND:20180428T220000Z
DTSTAMP:20240229T135201
TRIGGER:-PT60M
END:VEVENT
END:VCALENDAR
