BEGIN:VCALENDAR
VERSION:2.0
CALSCALE:GREGORIAN
PRODID:UnionActive
BEGIN:VEVENT
UID:10743165@ibew233.org
SUMMARY:Office Closed Martin Luther King Day
DESCRIPTION:Contact:  \nLink for more information: http://ibew233.org/index.cfm?zone=/unionactive/view_calendar.cfm&calendarID=10743165&thisdate=01/21/2019&useCalSection=main
LOCATION:
URL:http://ibew233.org/index.cfm?zone=/unionactive/view_calendar.cfm&calendarID=10743165&thisdate=01/21/2019&useCalSection=main
DTSTART:20190121T150000Z
DTEND:20190122T000000Z
DTSTAMP:20240229T135102
TRIGGER:-PT60M
END:VEVENT
END:VCALENDAR
