BEGIN:VCALENDAR
VERSION:2.0
CALSCALE:GREGORIAN
PRODID:UnionActive
BEGIN:VEVENT
UID:10743166@ibew233.org
SUMMARY:Presidents Day
DESCRIPTION:Contact:  \nLink for more information: http://ibew233.org/index.cfm?zone=/unionactive/view_calendar.cfm&calendarID=10743166&thisdate=02/18/2019&useCalSection=main
LOCATION:
URL:http://ibew233.org/index.cfm?zone=/unionactive/view_calendar.cfm&calendarID=10743166&thisdate=02/18/2019&useCalSection=main
DTSTART:20190218T150000Z
DTEND:20190219T000000Z
DTSTAMP:20240229T135054
TRIGGER:-PT60M
END:VEVENT
END:VCALENDAR
