BEGIN:VCALENDAR
VERSION:2.0
CALSCALE:GREGORIAN
PRODID:UnionActive
BEGIN:VEVENT
UID:10743170@ibew233.org
SUMMARY:Office Closed  Columbus Day
DESCRIPTION:Contact:  \nLink for more information: http://ibew233.org/index.cfm?zone=/unionactive/view_calendar.cfm&calendarID=10743170&thisdate=10/14/2019&useCalSection=main
LOCATION:
URL:http://ibew233.org/index.cfm?zone=/unionactive/view_calendar.cfm&calendarID=10743170&thisdate=10/14/2019&useCalSection=main
DTSTART:20191014T140000Z
DTEND:20191014T230000Z
DTSTAMP:20240229T135102
TRIGGER:-PT60M
END:VEVENT
END:VCALENDAR
