BEGIN:VCALENDAR
VERSION:2.0
CALSCALE:GREGORIAN
PRODID:UnionActive
BEGIN:VEVENT
UID:10743172@ibew233.org
SUMMARY:Office Closed Veterans Day
DESCRIPTION:Contact:  \nLink for more information: http://ibew233.org/index.cfm?zone=/unionactive/view_calendar.cfm&calendarID=10743172&thisdate=11/11/2019&useCalSection=main
LOCATION:
URL:http://ibew233.org/index.cfm?zone=/unionactive/view_calendar.cfm&calendarID=10743172&thisdate=11/11/2019&useCalSection=main
DTSTART:20191111T150000Z
DTEND:20191112T000000Z
DTSTAMP:20240229T135102
TRIGGER:-PT60M
END:VEVENT
END:VCALENDAR
