BEGIN:VCALENDAR
VERSION:2.0
CALSCALE:GREGORIAN
PRODID:UnionActive
BEGIN:VEVENT
UID:10928393@ibew233.org
SUMMARY:Office Closed Independence Day
DESCRIPTION:Contact:  \nLink for more information: http://ibew233.org/index.cfm?zone=/unionactive/view_calendar.cfm&calendarID=10928393&thisdate=07/05/2019&useCalSection=main
LOCATION:
URL:http://ibew233.org/index.cfm?zone=/unionactive/view_calendar.cfm&calendarID=10928393&thisdate=07/05/2019&useCalSection=main
DTSTART:20190705T140000Z
DTEND:20190705T150000Z
DTSTAMP:20240229T135053
TRIGGER:-PT60M
END:VEVENT
END:VCALENDAR
