BEGIN:VCALENDAR
VERSION:2.0
CALSCALE:GREGORIAN
PRODID:UnionActive
BEGIN:VEVENT
UID:10928394@ibew233.org
SUMMARY:Office Closed Thanksgiving
DESCRIPTION:Contact:  \nLink for more information: http://ibew233.org/index.cfm?zone=/unionactive/view_calendar.cfm&calendarID=10928394&thisdate=11/29/2019&useCalSection=main
LOCATION:
URL:http://ibew233.org/index.cfm?zone=/unionactive/view_calendar.cfm&calendarID=10928394&thisdate=11/29/2019&useCalSection=main
DTSTART:20191129T150000Z
DTEND:20191130T000000Z
DTSTAMP:20240229T135103
TRIGGER:-PT60M
END:VEVENT
END:VCALENDAR
