BEGIN:VCALENDAR
VERSION:2.0
CALSCALE:GREGORIAN
PRODID:UnionActive
BEGIN:VEVENT
UID:10928397@ibew233.org
SUMMARY:Office Closed New Years
DESCRIPTION:Contact:  \nLink for more information: http://ibew233.org/index.cfm?zone=/unionactive/view_calendar.cfm&calendarID=10928397&thisdate=12/31/2019&useCalSection=main
LOCATION:
URL:http://ibew233.org/index.cfm?zone=/unionactive/view_calendar.cfm&calendarID=10928397&thisdate=12/31/2019&useCalSection=main
DTSTART:20191231T150000Z
DTEND:20191231T160000Z
DTSTAMP:20240229T135054
TRIGGER:-PT60M
END:VEVENT
END:VCALENDAR
