BEGIN:VCALENDAR
VERSION:2.0
CALSCALE:GREGORIAN
PRODID:UnionActive
BEGIN:VEVENT
UID:11421176@ibew233.org
SUMMARY:Helena Union Meeting
DESCRIPTION:Contact:  \nLink for more information: http://ibew233.org/index.cfm?zone=/unionactive/view_calendar.cfm&calendarID=11421176&thisdate=08/18/2020&useCalSection=main
LOCATION:110 N. Warren
URL:http://ibew233.org/index.cfm?zone=/unionactive/view_calendar.cfm&calendarID=11421176&thisdate=08/18/2020&useCalSection=main
DTSTART:20200819T000000Z
DTEND:20200819T010000Z
DTSTAMP:20240229T134959
TRIGGER:-PT60M
END:VEVENT
END:VCALENDAR
