BEGIN:VCALENDAR
VERSION:2.0
CALSCALE:GREGORIAN
PRODID:UnionActive
BEGIN:VEVENT
UID:11421177@ibew233.org
SUMMARY:Butte Unit Meeting
DESCRIPTION:Contact:  \nLink for more information: http://ibew233.org/index.cfm?zone=/unionactive/view_calendar.cfm&calendarID=11421177&thisdate=08/19/2020&useCalSection=main
LOCATION:156 West Granite
URL:http://ibew233.org/index.cfm?zone=/unionactive/view_calendar.cfm&calendarID=11421177&thisdate=08/19/2020&useCalSection=main
DTSTART:20200820T000000Z
DTEND:20200820T010000Z
DTSTAMP:20240229T134959
TRIGGER:-PT60M
END:VEVENT
END:VCALENDAR
