BEGIN:VCALENDAR
VERSION:2.0
CALSCALE:GREGORIAN
PRODID:UnionActive
BEGIN:VEVENT
UID:11421178@ibew233.org
SUMMARY:Great Falls Unit Meeting
DESCRIPTION:Contact:  \nLink for more information: http://ibew233.org/index.cfm?zone=/unionactive/view_calendar.cfm&calendarID=11421178&thisdate=08/20/2020&useCalSection=main
LOCATION:1112 7th St South
URL:http://ibew233.org/index.cfm?zone=/unionactive/view_calendar.cfm&calendarID=11421178&thisdate=08/20/2020&useCalSection=main
DTSTART:20200821T000000Z
DTEND:20200821T010000Z
DTSTAMP:20240229T134959
TRIGGER:-PT60M
END:VEVENT
END:VCALENDAR
