BEGIN:VCALENDAR
VERSION:2.0
CALSCALE:GREGORIAN
PRODID:UnionActive
BEGIN:VEVENT
UID:11760746@ibew233.org
SUMMARY:Helena/Great Falls Wage Special Meeting
DESCRIPTION:Contact:  \nLink for more information: http://ibew233.org/index.cfm?zone=/unionactive/view_calendar.cfm&calendarID=11760746&thisdate=05/19/2021&useCalSection=main
LOCATION:Next week will be our unit meetings and we are close on negotiations. We might have negotiations wrapped up and we will 
need to ratify our new contract. So, after the regular meetings there will be a ratification vote. Helena is May 11th, Butte is 
May 12th, and Great Falls is May 13th. Butte will be able to ratify and decide where monies will go after the regular meeting. 
Helena/Great Falls will have a special meeting on May 19th to decide where the monies will go. This special meeting will be 
held at the Halls in Helena and Great Falls at 6 P.M. Thank you for all the hard work you are doing in the field and I look 
forward to seeing you at the meetings.

URL:http://ibew233.org/index.cfm?zone=/unionactive/view_calendar.cfm&calendarID=11760746&thisdate=05/19/2021&useCalSection=main
DTSTART:20210520T000000Z
DTEND:20210520T010000Z
DTSTAMP:20240229T134815
TRIGGER:-PT60M
END:VEVENT
END:VCALENDAR
