BEGIN:VCALENDAR
VERSION:2.0
CALSCALE:GREGORIAN
PRODID:UnionActive
BEGIN:VEVENT
UID:12035141@ibew233.org
SUMMARY:UNION HISTORY CEU 8HRS GREAT FALLS
DESCRIPTION:Contact: Use CEU upgrade classes link on website. Or in the event details  \nLink for more information: http://ibew233.org/index.cfm?zone=/unionactive/view_calendar.cfm&calendarID=12035141&thisdate=03/05/2022&useCalSection=main
LOCATION:Great Falls Hall  1112 7th St South #207 
URL:http://ibew233.org/index.cfm?zone=/unionactive/view_calendar.cfm&calendarID=12035141&thisdate=03/05/2022&useCalSection=main
DTSTART:20220305T150000Z
DTEND:20220306T000000Z
DTSTAMP:20240229T134613
TRIGGER:-PT60M
END:VEVENT
END:VCALENDAR
