BEGIN:VCALENDAR
VERSION:2.0
CALSCALE:GREGORIAN
PRODID:UnionActive
BEGIN:VEVENT
UID:12035142@ibew233.org
SUMMARY:MULTIMETER CEU HELENA 8hrs 
DESCRIPTION:Contact: USE the CEU Upgrade Classes link on the website or in the event details  \nLink for more information: http://ibew233.org/index.cfm?zone=/unionactive/view_calendar.cfm&calendarID=12035142&thisdate=03/12/2022&useCalSection=main
LOCATION:Helena -  Mt Electrical JATC 2616 Bozeman Ave.,  Helena Mt
URL:http://ibew233.org/index.cfm?zone=/unionactive/view_calendar.cfm&calendarID=12035142&thisdate=03/12/2022&useCalSection=main
DTSTART:20220312T150000Z
DTEND:20220313T000000Z
DTSTAMP:20240229T134619
TRIGGER:-PT60M
END:VEVENT
END:VCALENDAR
