BEGIN:VCALENDAR
VERSION:2.0
CALSCALE:GREGORIAN
PRODID:UnionActive
BEGIN:VEVENT
UID:12035144@ibew233.org
SUMMARY:NFPA 70E BUTTE 8Hrs 
DESCRIPTION:Contact: Use link on website "CEU Upgrade Classes" or the link in event details  \nLink for more information: http://ibew233.org/index.cfm?zone=/unionactive/view_calendar.cfm&calendarID=12035144&thisdate=03/26/2022&useCalSection=main
LOCATION:Butte Carpenters Hall 156 West Granite St, - Butte Mt
URL:http://ibew233.org/index.cfm?zone=/unionactive/view_calendar.cfm&calendarID=12035144&thisdate=03/26/2022&useCalSection=main
DTSTART:20220326T140000Z
DTEND:20220326T230000Z
DTSTAMP:20240229T134620
TRIGGER:-PT60M
END:VEVENT
END:VCALENDAR
