BEGIN:VCALENDAR
VERSION:2.0
CALSCALE:GREGORIAN
PRODID:UnionActive
BEGIN:VEVENT
UID:12036930@ibew233.org
SUMMARY:LABOR HISTORY BUTTE 8hrs 
DESCRIPTION:Contact: USE THE LINK ON THE WEBSITE OR IN EVENT DETAILS  \nLink for more information: http://ibew233.org/index.cfm?zone=/unionactive/view_calendar.cfm&calendarID=12036930&thisdate=04/02/2022&useCalSection=main
LOCATION:BUTE CARPENTERS HALL 156 W GRANITE IN BUTTE
URL:http://ibew233.org/index.cfm?zone=/unionactive/view_calendar.cfm&calendarID=12036930&thisdate=04/02/2022&useCalSection=main
DTSTART:20220402T140000Z
DTEND:20220402T230000Z
DTSTAMP:20240229T134815
TRIGGER:-PT60M
END:VEVENT
END:VCALENDAR
