BEGIN:VCALENDAR
VERSION:2.0
CALSCALE:GREGORIAN
PRODID:UnionActive
BEGIN:VEVENT
UID:12036933@ibew233.org
SUMMARY:AC THEORY HELENA 8hrs 
DESCRIPTION:Contact: USE LINKS ON WEBSITE OR EVENT DETAILS  \nLink for more information: http://ibew233.org/index.cfm?zone=/unionactive/view_calendar.cfm&calendarID=12036933&thisdate=04/23/2022&useCalSection=main
LOCATION:Montana Electrical Training Center
2616 Bozeman Avenue
Helena
URL:http://ibew233.org/index.cfm?zone=/unionactive/view_calendar.cfm&calendarID=12036933&thisdate=04/23/2022&useCalSection=main
DTSTART:20220423T140000Z
DTEND:20220423T230000Z
DTSTAMP:20240229T134613
TRIGGER:-PT60M
END:VEVENT
END:VCALENDAR
