BEGIN:VCALENDAR
VERSION:2.0
CALSCALE:GREGORIAN
PRODID:UnionActive
BEGIN:VEVENT
UID:12036936@ibew233.org
SUMMARY:NEC CHANGES GREAT FALLS 8hrs 
DESCRIPTION:Contact: USE WEBSITE LINK OR IN EVENT DETAILS  \nLink for more information: http://ibew233.org/index.cfm?zone=/unionactive/view_calendar.cfm&calendarID=12036936&thisdate=05/14/2022&useCalSection=main
LOCATION:GREAT FALLS UNION HALL  1112 7TH ST S.  GREAT FALLS 
URL:http://ibew233.org/index.cfm?zone=/unionactive/view_calendar.cfm&calendarID=12036936&thisdate=05/14/2022&useCalSection=main
DTSTART:20220514T140000Z
DTEND:20220514T230000Z
DTSTAMP:20240229T134620
TRIGGER:-PT60M
END:VEVENT
END:VCALENDAR
