BEGIN:VCALENDAR
VERSION:2.0
CALSCALE:GREGORIAN
PRODID:UnionActive
BEGIN:VEVENT
UID:12036937@ibew233.org
SUMMARY:LABOR HISTORY HELENA 8hrs 
DESCRIPTION:Contact: USE THE WEBSITE LINK OR IN EVENT DETAILS  \nLink for more information: http://ibew233.org/index.cfm?zone=/unionactive/view_calendar.cfm&calendarID=12036937&thisdate=06/04/2022&useCalSection=main
LOCATION:MT ELECTRICAL TRAINING CENTER 2616 BOZEMAN AVE HELENA 
URL:http://ibew233.org/index.cfm?zone=/unionactive/view_calendar.cfm&calendarID=12036937&thisdate=06/04/2022&useCalSection=main
DTSTART:20220604T140000Z
DTEND:20220604T230000Z
DTSTAMP:20240229T134619
TRIGGER:-PT60M
END:VEVENT
END:VCALENDAR
