BEGIN:VCALENDAR
VERSION:2.0
CALSCALE:GREGORIAN
PRODID:UnionActive
BEGIN:VEVENT
UID:12345526@ibew233.org
SUMMARY:2020 CODE UPDATE CEU
DESCRIPTION:Contact:  \nLink for more information: http://ibew233.org/index.cfm?zone=/unionactive/view_calendar.cfm&calendarID=12345526&thisdate=02/18/2023&useCalSection=main
LOCATION:Montana Electrical Training Center
2616 Bozeman Avenue
Helena, MT 59601
URL:http://ibew233.org/index.cfm?zone=/unionactive/view_calendar.cfm&calendarID=12345526&thisdate=02/18/2023&useCalSection=main
DTSTART:20230218T150000Z
DTEND:20230219T000000Z
DTSTAMP:20240229T133640
TRIGGER:-PT60M
END:VEVENT
END:VCALENDAR
