BEGIN:VCALENDAR
VERSION:2.0
CALSCALE:GREGORIAN
PRODID:UnionActive
BEGIN:VEVENT
UID:12558983@ibew233.org
SUMMARY:Eboard Meeting
DESCRIPTION:Contact:  \nLink for more information: http://ibew233.org/index.cfm?zone=/unionactive/view_calendar.cfm&calendarID=12558983&thisdate=03/02/2023&useCalSection=main
LOCATION:110 Nwarren Helena Mt 59601
URL:http://ibew233.org/index.cfm?zone=/unionactive/view_calendar.cfm&calendarID=12558983&thisdate=03/02/2023&useCalSection=main
DTSTART:20230303T020000Z
DTEND:20230303T040000Z
DTSTAMP:20240229T133616
TRIGGER:-PT60M
END:VEVENT
END:VCALENDAR
