BEGIN:VCALENDAR
VERSION:2.0
CALSCALE:GREGORIAN
PRODID:UnionActive
BEGIN:VEVENT
UID:12559003@ibew233.org
SUMMARY:Eboard Meeting
DESCRIPTION:Contact:  \nLink for more information: http://ibew233.org/index.cfm?zone=/unionactive/view_calendar.cfm&calendarID=12559003&thisdate=11/07/2024&useCalSection=main
LOCATION:110 Nwarren Helena Mt 59601
URL:http://ibew233.org/index.cfm?zone=/unionactive/view_calendar.cfm&calendarID=12559003&thisdate=11/07/2024&useCalSection=main
DTSTART:20241108T020000Z
DTEND:20241108T040000Z
DTSTAMP:20240229T132049
TRIGGER:-PT60M
END:VEVENT
END:VCALENDAR
