BEGIN:VCALENDAR
VERSION:2.0
CALSCALE:GREGORIAN
PRODID:UnionActive
BEGIN:VEVENT
UID:12559012@ibew233.org
SUMMARY:Butte Unit Meeting 
DESCRIPTION:Contact:  \nLink for more information: http://ibew233.org/index.cfm?zone=/unionactive/view_calendar.cfm&calendarID=12559012&thisdate=08/09/2023&useCalSection=main
LOCATION:Butte Carpenter Hall. 156 W. Granite St, Butte Mt
URL:http://ibew233.org/index.cfm?zone=/unionactive/view_calendar.cfm&calendarID=12559012&thisdate=08/09/2023&useCalSection=main
DTSTART:20230810T000000Z
DTEND:20230810T013000Z
DTSTAMP:20240229T133651
TRIGGER:-PT60M
END:VEVENT
END:VCALENDAR
