BEGIN:VCALENDAR
VERSION:2.0
CALSCALE:GREGORIAN
PRODID:UnionActive
BEGIN:VEVENT
UID:12559018@ibew233.org
SUMMARY:Butte Unit Meeting 
DESCRIPTION:Contact:  \nLink for more information: http://ibew233.org/index.cfm?zone=/unionactive/view_calendar.cfm&calendarID=12559018&thisdate=02/14/2024&useCalSection=main
LOCATION:Butte Carpenter Hall. 156 W. Granite St, Butte Mt
URL:http://ibew233.org/index.cfm?zone=/unionactive/view_calendar.cfm&calendarID=12559018&thisdate=02/14/2024&useCalSection=main
DTSTART:20240215T010000Z
DTEND:20240215T023000Z
DTSTAMP:20240229T125846
TRIGGER:-PT60M
END:VEVENT
END:VCALENDAR
