BEGIN:VCALENDAR
VERSION:2.0
CALSCALE:GREGORIAN
PRODID:UnionActive
BEGIN:VEVENT
UID:12559028@ibew233.org
SUMMARY:Butte Unit Meeting 
DESCRIPTION:Contact:  \nLink for more information: http://ibew233.org/index.cfm?zone=/unionactive/view_calendar.cfm&calendarID=12559028&thisdate=12/11/2024&useCalSection=main
LOCATION:Butte Carpenter Hall. 156 W. Granite St, Butte Mt
URL:http://ibew233.org/index.cfm?zone=/unionactive/view_calendar.cfm&calendarID=12559028&thisdate=12/11/2024&useCalSection=main
DTSTART:20241212T010000Z
DTEND:20241212T023000Z
DTSTAMP:20240229T132039
TRIGGER:-PT60M
END:VEVENT
END:VCALENDAR
