BEGIN:VCALENDAR
VERSION:2.0
CALSCALE:GREGORIAN
PRODID:UnionActive
BEGIN:VEVENT
UID:12559030@ibew233.org
SUMMARY:Helena Unit Meeting 
DESCRIPTION:Contact:  \nLink for more information: http://ibew233.org/index.cfm?zone=/unionactive/view_calendar.cfm&calendarID=12559030&thisdate=02/14/2023&useCalSection=main
LOCATION:Helena Labor Temple, 110 N. Warren, Helena Mt
URL:http://ibew233.org/index.cfm?zone=/unionactive/view_calendar.cfm&calendarID=12559030&thisdate=02/14/2023&useCalSection=main
DTSTART:20230215T010000Z
DTEND:20230215T023000Z
DTSTAMP:20240229T133613
TRIGGER:-PT60M
END:VEVENT
END:VCALENDAR
